BEGIN:VCALENDAR
VERSION:2.0
PRODID:-//eventon.com NONSGML v1.0//EN
CALSCALE:GREGORIAN
METHOD:PUBLISH
BEGIN:VEVENT
UID:69ea08337b992
DTSTAMP:20260423T115323Z
DTSTART:20240219T153000Z
DTEND:20240219T163000Z
LOCATION:
SUMMARY:Say their names!
DESCRIPTION:Am 19ten Februar 2020 ermordete ein Rechtsextremist in Hanau ze
 hn Menschen aus rassistischen und misogynen Motiven. Wir gedenken: Gökhan 
 Gültekin Sedat Gürbüz Said Nesar Hashemi Mercedes Kierpacz Hamza Kurtovi
 ć Vili Viorel Păun Fatih Saraçoğlu Ferhat Unvar Kaloyan Velkov Gabriele
  Rathjen Sowie der fünf durch die Tat verwundeten Menschen. Auch vier[..]\
 nhttps://luks-passau.de/events/say-their-names/
URL:https://luks-passau.de/events/say-their-names/
END:VEVENT
END:VCALENDAR