BEGIN:VCALENDAR
VERSION:2.0
PRODID:-//eventon.com NONSGML v1.0//EN
CALSCALE:GREGORIAN
METHOD:PUBLISH
BEGIN:VEVENT
UID:69ea004cd51c7
DTSTAMP:20260423T111940Z
DTSTART:20231214T190000Z
DTEND:20231214T210000Z
LOCATION:
SUMMARY:Incels und Antifeminismus
DESCRIPTION:Gekränkte Männlichkeit\,  Antifeminismus und Online-Radikalis
 ierung Misogynie\,  Antifeminismus und LGBTQ-Feindlichkeit sind integrale B
 estandteile rechtsradikaler und -extremer Ideologie - und gleichzeitig kein
 e Phänomene des rechten Randes\,  sondern fest im patriarchal strukturiert
 en Kapitalismus verankert. Da die Konstitution hegemonialer Männlichkeit a
 uf der systematischen Abwertung und Ausbeutung des Nichtmännlichen besteht
 \,  fühlen sich viele Männer von[..]\nhttps://luks-passau.de/events/incel
 s-und-antifeminismus/
URL:https://luks-passau.de/events/incels-und-antifeminismus/
END:VEVENT
END:VCALENDAR